Workbook
Name Contingency: Lists!$B$23:$B$25
Name Dozer_work: EquipProd!$C$53:$G$70
Name EquipList: Lists!$B$4:$B$6
Name EquipRates: 'T2 - Unit Rates'!$C$7:$J$54
Name Excavator_prod: EquipProd!$C$76:$J$84
Name LabourRates: 'T2 - Unit Rates'!$A$57:$L$68
Name Manpower: Lists!$G$4:$G$15
Name MatRate: 'T2 - Unit Rates'!$C$71:$H$82
Name MiscRates: 'T2 - Unit Rates'!$C$99:$E$110
Name Period: Lists!$B$11:$B$12
Name Productivity: EquipProd!$B$4:$C$39
Name Progressive: Lists!$B$18:$B$19
Name RehabCover: LHD!$B$39:$E$65
Name UnitCost: '[1]T2-UnitCost'!$B$4:$D$77

Sheet Revisions
A3: Original | B3: File Name | C3: Appendix E_20200910_BMCM1_ClosureCostEst
A5: Update 1 | B5: File Name | C5: Closure Cost Model_Rev01
A7: Revision No | B7: Tab | C7: Column | D7: Row | E7: Change
A8: 1-1 | B8: T1-Summary | C8: I | D8: 6 | E8: Added 'Select Equipment Costing Method' drop box | F8: Depending on selections made, Rev 1-1 through 1-4 substantially change the values
A9: 1-2 | B9: T1-Summary | C9: I | D9: 8 | E9: Added 'Select Reclamation Cost Timeframe' drop box | F9: Depending on selections made, Rev 1-1 through 1-4 substantially change the values
A10: 1-3 | B10: T1-Summary | C10: I | D10: 12 | E10: Added 'Select Cost Method for Progressive Reclamation' drop box | F10: Depending on selections made, Rev 1-1 through 1-4 substantially change the values
A11: 1-4 | B11: T1-Summary | C11: I | D11: 16 | E11: Added 'Select Contingency Level' drop box | F11: Depending on selections made, Rev 1-1 through 1-4 substantially change the values
A12: 1-5 | B12: Quantities | C12: F | E12: Inserted column F to include quantities for Life of Mine (LOM)
A13: 1-6 | B13: Quantities | D13: 43 | E13: Inserted row 43 'Class A SF - Progressively Reclaimed' to show progressive rehabilitation
A14: 1-7 | B14: Quantities | D14: 57 | E14: Inserted row 57 "Class B SF - Progressively Reclaimed' to show progressive rehabilitation
A15: 1-8 | B15: Quantities | D15: 70 | E15: Inserted row 70 'Class C SF - Progressively Reclaimed' to show progressive rehabilitation
A16: 1-9 | B16: Quantities | C16: G | D16: 39 - 82 | E16: Updated areas and volumes
A17: 1-10 | B17: Quantities | D17: 84 - 85 | E17: Added rows 84 & 85, additional information only
A18: 1-11 | B18: Quantities | D18: 87 - 88 | E18: Added rows 87 & 88, Class C claim fraction information only
A19: 1-12 | B19: EquipProd | E19: Reviewed and updated most productivity calculations
A20: 1-13 | B20: LHD | D20: 6 - 28 | E20: Updated equipment selection and productivity calculations
A21: 1-14 | B21: LHD | D21: 15 | E21: Inserted row 15 to include calculation of progessive Class C material to the Class A SF
A22: 1-15 | B22: LHD | D22: 22 | E22: Inserted row 22 to include calculation of progessive Class C material to the Class B SF
A23: 1-16 | B23: LHD | D23: 39 - 61 | E23: Updated full placement cost calculations
A24: 1-17 | B24: LHD | D24: 48 - 50 | E24: Inserted rows 48-50 for allow multiple pricing methodologies for Class A SF
A25: 1-18 | B25: LHD | D25: 55 - 57 | E25: Inserted rows 55-57 for allow multiple pricing methodologies for Class B SF
A26: 1-19 | B26: Labour & Equip Hrs | C26: C & E | D26: 18 | E26: Added estimated number of seasons for active reclamation works
A27: 1-20 | B27: T2-Unit Rates | C27: C | D27: 57 - 63 | E27: Updated Labour rates for YG-FWS effective April 1, 2020
A28: 1-21 | B28: T2-Unit Rates | C28: J | D28: 7 - 54 | E28: Updated Owner Rates based on Caterpillar and Komatsu information
A29: 1-22 | B29: T2-Unit Rates | D29: 33 - 34 | E29: Inserted rows 33 & 34 with additional trucks
A30: 1-23 | B30: T2-Unit Rates | D30: 42 | E30: Inserted row 42 with additional loader
A31: 1-24 | B31: T2-Unit Rates | C31: E | D31: 71 | E31: Updated Zone F costs
A32: 1-25 | B32: T2-Unit Rates | C32: E | D32: 72 | E32: Updated Zone S costs
A33: 1-26 | B33: T3 - G&A | C33: J | D33: 9-28 | E33: Updated to calculate directly from info on tab 'Labour & Equip Hrs'
A34: 1-27 | B34: T3 - G&A | C34: L | D34: 9-28 | E34: Updated to calculate directly from info on tab 'Labour & Equip Hrs'
A35: 1-28 | B35: T10 - Infrastructure | D35: 10 | E35: Added cost of demobing camp buildings
A36: 1-29 | B36: T10 - Infrastructure | C36: R | D36: 8 & 15 | E36: Updated building breakdown labour hours
A37: 1-30 | B37: T14 - MobDemob | E37: Adjusted number of items for various scenarios
A38: 1-31 | B38: T14 - MobDemob | D38: 38 | E38: Added additional truck type
A39: 1-32 | B39: T14 - MobDemob | D39: 46 | E39: Added additional FEL type
A40: 1-33 | B40: T14 - MobDemob | C40: K | E40: Adjustedcolumn K values to reflect ICMM mobdemob for Year 2
A41: 1-34 | B41: T15-ICMM | C41: K | D41: 8 - 61 | E41: Included ICMM costs for Year 2 based on EMR request
A42: 1-35 | B42: T15-ICMM | C42: N | D42: 8 - 61 | E42: Reviewed and updated estimates
A43: 1-36 | B43: T15-ICMM | D43: 33 - 41 | E43: Updated rows 33-41, Site Maintenance section to be similar to 'T16-PCMM' section
A44: 1-37 | B44: T16-PCMM | C44: I | D44: 70 | E44: Updated PCMM annual MobDemob to include both ways
...

Sheet T1-Summary
Y1: calcs | AA1: Hide and lock section
B3: Table 1
B4: Summary Table of Estimated Closure Costs | Z4: Calculation Options
B5: Description of Cost | C5: Current | D5: 2 Year | E5: 5 Year | F5: =Z8 -> EOM | H5: Implementation Contingency Cost Factors
B6: Closure Implementation | H6: =C5 -> Current | I6: =D5 -> 2 Year | J6: =E5 -> 5 Year | K6: =F5 -> EOM | Z6: BC Blue Book | AA6: Select Equipment Costing Method
B7: General & Administration | C7: ='T3 - G&A'!$I31 -> 0 | D7: ='T3 - G&A'!$K31 -> 985776 | E7: ='T3 - G&A'!$M31 -> 1966552 | F7: ='T3 - G&A'!$O$31 -> 2947328 | H7: 0 | I7: 0.2 | J7: 0.2 | K7: 0.2
B8: Exploration | C8: ='T4 - Exploration'!$H16 -> 100000 | D8: ='T4 - Exploration'!$J16 -> 100000 | E8: ='T4 - Exploration'!$L16 -> 100000 | F8: ='T4 - Exploration'!$N$16 -> 100000 | H8: n/a | I8: n/a | J8: n/a | K8: n/a | Z8: EOM | AA8: Select Reclamation Cost Timeframe
B9: Closure Planning | C9: ='T5 - ClosurePlan'!$H24 -> 0 | D9: ='T5 - ClosurePlan'!$J24 -> 160000 | E9: ='T5 - ClosurePlan'!$L24 -> 1120000 | F9: ='T5 - ClosurePlan'!$N$24 -> 2240000 | H9: 0 | I9: 0.1 | J9: 0.1 | K9: 0.1 | AB9: Total LOM = Total Costs of Reclamation
B10: Mine Working - UG & OP | C10: ='T6 - Pits'!$O45 -> 0 | D10: ='T6 - Pits'!$T45 -> 0 | E10: ='T6 - Pits'!$Y45 -> 968819.57 | F10: ='T6 - Pits'!$AD$45 -> 4339481.4 | H10: 0 | I10: 0.15 | J10: 0.2 | K10: 0.2 | AB10: EOM = Costs of Reclamation Remaining At End of Operations, Removes Progressively Completed Reclamation
B11: Waste Rock and Tailings Storage Facilities | C11: ='T7 - WSF'!$O70 -> 0 | D11: ='T7 - WSF'!$T70 -> 83605.814 | E11: ='T7 - WSF'!$Y70 -> 21268342 | F11: ='T7 - WSF'!$AD$70 -> 30561817 | H11: 0 | I11: 0.15 | J11: 0.2 | K11: 0.2
B12: Surface Facilities | C12: ='T8 - Facilities'!$O115 -> 0 | D12: ='T8 - Facilities'!$T115 -> 674247.77 | E12: ='T8 - Facilities'!$Y115 -> 4613369.8 | F12: ='T8 - Facilities'!$AD$115 -> 4613369.8 | H12: 0 | I12: 0.15 | J12: 0.2 | K12: 0.2 | Z12: YG | AA12: Select Cost Method for Progressive Reclamation
B13: Water Storage Ponds | C13: ='T9 - Ponds'!$O62 -> 0 | D13: ='T9 - Ponds'!$T62 -> 0 | E13: ='T9 - Ponds'!$Y62 -> 783161.96 | F13: ='T9 - Ponds'!$AD$62 -> 783161.96 | H13: 0 | I13: 0.15 | J13: 0.15 | K13: 0.15 | AB13: YG = Progressive Reclamation is Costed at YG 3rd Party Rates & Equipment Sizes
B14: Infrastructure | C14: ='T10 - Infrastructure'!$O65 -> 230064.32 | D14: ='T10 - Infrastructure'!$T65 -> 708798.67 | E14: ='T10 - Infrastructure'!$Y65 -> 743398.05 | F14: ='T10 - Infrastructure'!$AD$65 -> 743398.05 | H14: 0 | I14: 0.2 | J14: 0.2 | K14: 0.2 | AB14: Mining = Progressive Reclamatin is Costed as per the Open Pit Mining Contract
B15: Waste Disposal / Remediation | C15: ='T11 - Wastes'!$O23 -> 0 | D15: ='T11 - Wastes'!$T23 -> 19636.568 | E15: ='T11 - Wastes'!$Y23 -> 19636.568 | F15: ='T11 - Wastes'!$AD$23 -> 19636.568 | H15: 0 | I15: 0.15 | J15: 0.15 | K15: 0.15
B16: Water Management | C16: ='T13 - Water'!$O61 -> 0 | D16: ='T13 - Water'!$T61 -> 224565.5 | E16: ='T13 - Water'!$Y61 -> 4415405.5 | F16: ='T13 - Water'!$AD$61 -> 4598683 | H16: 0 | I16: 0.15 | J16: 0.25 | K16: 0.25 | Z16: Medium | AA16: Select Contingency Level
B17: Mob/Demob | C17: 0 | D17: ='T14 - MobDemob'!$O$61+'T14 - MobDemob'!$S$61 -> 258095.25 | E17: ='T14 - MobDemob'!$Q$61+'T14 - MobDemob'!$S$61 -> 366632 | F17: ='T14 - MobDemob'!$Q$61+'T14 - MobDemob'!$S$61 -> 366632 | H17: 0 | I17: 0.1 | J17: 0.1 | K17: 0.1
B18: Interim Care, Maintenance, and Monitoring Costs | C18: 0 | D18: ='T15-ICMM'!$M$63 -> 389293.1 | E18: ='T15-ICMM'!$P$63 -> 2709272.1 | F18: ='T15-ICMM'!$S$63 -> 3336272.1 | H18: 0 | I18: 0.15 | J18: 0.15 | K18: 0.15
B19: Sub-total Implementation Costs | C19: =SUM(C7:C18) -> 330064.32 | D19: =SUM(D7:D18) -> 3604018.7 | E19: =SUM(E7:E18) -> 39074590 | F19: =SUM(F7:F18) -> 54649780
B20: Contingency Costs | C20: 0 | D20: =SUMPRODUCT(D7:D18,I7:I18) -> 589426.77 | E20: =SUMPRODUCT(E7:E18,J7:J18) -> 7691421.5 | F20: =SUMPRODUCT(F7:F18,K7:K18) -> 10672273 | H20: Average Contingency | I20: =D20/D19 -> 0.16354709 | J20: =E20/E19 -> 0.19683947 | K20: =F20/F19 -> 0.19528484
B21: Indirect Costs | C21: 0 | D21: =D19*$I$30 -> 720803.73 | E21: =E19*$I$30 -> 7814917.9 | F21: =F19*$I$30 -> 10929956
B22: Cost Inflation 1 | C22: 0 | D22: =((D19+D21)*(1+$D$45)^2)-(D19+D21) -> 325957.54 | E22: =((E19+E21)*(1+$D$45)^5)-(E19+E21) -> 9340669.9 | F22: =((F19+F21)*(1+$D$45)^12)-(F19+F21) -> 35838194 | H22: Implementation Indirect Cost Factors
B23: Total Implementation Costs | C23: =C19+C21+C22 -> 330064.32 | D23: =D19+D21+D22 -> 4650779.9 | E23: =E19+E21+E22 -> 56230178 | F23: =F19+F21+F22 -> 1.0141793e+08 | H23: Contractors | I23: 0.05
H24: Insurance | I24: 0
B25: Post Closure Costs | H25: Bonding | I25: 0.03
B26: Capital Costs | H26: Taxes | I26: 0
B27: Pre-Closure Site Environmental Assessment | C27: ='T16-PCMM'!$M$11 -> 0 | D27: ='T16-PCMM'!$P$11 -> 60000 | E27: ='T16-PCMM'!$S$11 -> 120000 | F27: ='T16-PCMM'!$V$11 -> 120000 | H27: Agency administration | I27: 0
B28: Post-Closure Site Environmental Assessment | C28: ='T16-PCMM'!$M$16 -> 0 | D28: ='T16-PCMM'!$P$16 -> 35000 | E28: ='T16-PCMM'!$S$16 -> 70000 | F28: ='T16-PCMM'!$V$16 -> 70000 | H28: Engineering and Surveying | I28: 0.07
B29: Instrumentation | C29: ='T16-PCMM'!$M$22 -> 0 | D29: ='T16-PCMM'!$P$22 -> 0 | E29: ='T16-PCMM'!$S$22 -> 25000 | F29: ='T16-PCMM'!$V$22 -> 25000 | H29: Project Management | I29: 0.05
B30: Recurring Costs (NPV) | H30: Total | I30: =SUM(I23:I29) -> 0.2
B31: Water Treatment | C31: ='T17-NPV-YR0'!B80 -> 0 | D31: ='T18-NPV-YR2'!B80 -> 0 | E31: ='T19-NPV-YR5'!B80 -> 23426.41 | F31: ='T20-NPV-EOM'!B80 -> 16702.707
B32: Staff/Equipment | C32: ='T17-NPV-YR0'!B83 -> 0 | D32: ='T18-NPV-YR2'!B83 -> 436635.16 | E32: ='T19-NPV-YR5'!B83 -> 906654.22 | F32: ='T20-NPV-EOM'!B83 -> 1064199.1
B33: Maintenance | C33: ='T17-NPV-YR0'!B87 -> 0 | D33: ='T18-NPV-YR2'!B87 -> 123116.81 | E33: ='T19-NPV-YR5'!B87 -> 337582.9 | F33: ='T20-NPV-EOM'!B87 -> 616162.04
B34: Transportation | C34: ='T17-NPV-YR0'!B90 -> 0 | D34: ='T18-NPV-YR2'!B90 -> 88329.224 | E34: ='T19-NPV-YR5'!B90 -> 252167.21 | F34: ='T20-NPV-EOM'!B90 -> 285027.9 | H34: Post Closure Cost Factors
B35: Monitoring | C35: ='T17-NPV-YR0'!B92 -> 64593.072 | D35: ='T18-NPV-YR2'!B92 -> 2992920.7 | E35: ='T19-NPV-YR5'!B92 -> 4460678.1 | F35: ='T20-NPV-EOM'!B92 -> 6127936.4 | H35: Contingency | I35: Indirects
B36: Sub-total Post Closure Costs | C36: =SUM(C27:C35) -> 64593.072 | D36: =SUM(D27:D35) -> 3736001.9 | E36: =SUM(E27:E35) -> 6195508.8 | F36: =SUM(F27:F35) -> 8325028.1 | H36: 0.2 | I36: 0.15
B37: Contingency Costs | C37: =C36*$H$36 -> 12918.614 | D37: =D36*$H$36 -> 747200.39 | E37: =E36*$H$36 -> 1239101.8 | F37: =F36*$H$36 -> 1665005.6
B38: Indirect Costs | C38: =C36*$I$36 -> 9688.9608 | D38: =D36*$I$36 -> 560400.29 | E38: =E36*$I$36 -> 929326.32 | F38: =F36*$I$36 -> 1248754.2
B39: Total Post Closure Costs | C39: =C36+C38 -> 74282.033 | D39: =D36+D38 -> 4296402.2 | E39: =E36+E38 -> 7124835.1 | F39: =F36+F38 -> 9573782.3
B41: Total Closure Costs | C41: =C39+C23 -> 404346.35 | D41: =D39+D23 -> 8947182.2 | E41: =E39+E23 -> 63355013 | F41: =F39+F23 -> 1.1099171e+08
B42: Contingency Costs | C42: =C20+C37 -> 12918.614 | D42: =D20+D37 -> 1336627.2 | E42: =E20+E37 -> 8930523.3 | F42: =F20+F37 -> 12337279
...

Sheet Quantities
B1: Table 8
B2: Quantities
B4: ID | C4: Remediation Unit | D4: Quantity Current (to end 2025) | E4: Quantity Year 2 | F4: Quantity Year 5 | G4: Quantity LOM | H4: Quantity End of Mine | I4: Unit | K4: Basis
C5: Mill Site | D5: 0 | E5: 200900 | F5: 200900 | G5: 200900 | H5: 200900 | I5: m2 | K5: Surface footprint feasibility design file
C6: Temporary Offices and Fuel Management | D6: 0 | E6: 51600 | F6: 0 | G6: 0 | H6: 0 | I6: m2 | K6: Surface footprint feasibility design file
C7: Borrow Pit and Crushing/Screening Plant and Stockpiles | D7: 0 | E7: 171900 | F7: 0 | G7: 0 | H7: 0 | I7: m2 | K7: Surface footprint feasibility design file
C8: Mining Workshop, Go Bay, Fuel Facility | D8: 0 | E8: 0 | F8: =46510+20105 -> 66615 | G8: =46510+20105 -> 66615 | H8: =46510+20105 -> 66615 | I8: m2 | K8: Surface footprint feasibility design file
C9: Explosives Facilities and magazines | D9: 0 | E9: 200 | F9: 29900 | G9: 29900 | H9: 29900 | I9: m2 | K9: Surface footprint feasibility design file
C10: Incinerator and Landfill | D10: 0 | E10: 6700 | F10: 6700 | G10: 6700 | H10: 6700 | I10: m2 | K10: Surface footprint feasibility design file
C11: Camp Area | D11: 42800 | E11: 53800 | F11: 53800 | G11: 53800 | H11: 53800 | I11: m2 | K11: Surface footprint feasibility design file
C12: Core Storage Area | D12: 8200 | E12: 12400 | F12: 12400 | G12: 12400 | H12: 12400 | I12: m2 | K12: Surface footprint feasibility design file
C13: Roads | D13: 14.27 | E13: 15.592 | F13: 15.5 | G13: 20.388 | H13: 20.388 | I13: km | K13: Surface footprint feasibility design file
C14: Lower Water Management Pond Berm | D14: 0 | E14: 0 | F14: 24400 | G14: 24400 | H14: 24400 | I14: m2 | K14: Feasibility design file
C15: Lower Water Management Pond footprint | D15: 0 | E15: 0 | F15: 151500 | G15: 151500 | H15: 151500 | I15: m2 | K15: Surface footprint feasibility design file
C16: Lower Water Management Pond Embankment, Excess Material Excavated | D16: 0 | E16: 0 | F16: 126730 | G16: 126730 | H16: 126730 | I16: m3 | K16: Feasibility design file
C17: Lower Water Management Pond Embankment | D17: 0 | E17: 0 | F17: 229659 | G17: 229659 | H17: 229659 | I17: m3 | K17: Feasibility design file
C18: Lower Water Management Pond Liner | D18: 0 | E18: 0 | F18: 118856 | G18: 118856 | H18: 118856 | I18: m2 | K18: Feasibility design file
C19: Upper Water Management Pond Berm | D19: 0 | E19: 0 | F19: 24700 | G19: 24700 | H19: 24700 | I19: m2 | K19: Feasibility design file
C20: Upper Water Management Pond footprint | D20: 0 | E20: 0 | F20: 132800 | G20: 132800 | H20: 132800 | I20: m2 | K20: Surface footprint feasibility design file
... C28: Overburden Stockpile - Collection Pond Liner | D28: 0 | E28: 0 | F28: 9000 | G28: 9000 | H28: 9000 | I28: m2 | K28: Feasibility design file
C29: Overburden Stockpile - Regrade volume (assumed 0.1 m cut) | D29: =D26*0.1 -> 0 | E29: =E26*0.1 -> 7890 | F29: =F26*0.1 -> 32540 | G29: =G26*0.1 -> 47470 | H29: =H26*0.1 -> 47470 | I29: m3 | K29: Estimate
C30: Topsoil Stockpile | D30: 0 | E30: 42200 | F30: 227300 | G30: 320600 | H30: =G30*0.5 -> 160300 | I30: m2 | K30: Surface footprint feasibility design file
C31: Topsoil Stockpile - Regrade volume (assumed 0.10 m cut) | D31: =D30*0.1 -> 0 | E31: =E30*0.1 -> 4220 | F31: =F30*0.1 -> 22730 | G31: =G30*0.1 -> 32060 | H31: =H30*0.1 -> 16030 | I31: m3 | K31: Estimate
C32: Pit | D32: 0 | E32: 0 | F32: 487900 | G32: 881000 | H32: 881000 | I32: m2 | K32: Surface footprint feasibility design file
C33: Pit Perimeter | D33: 0 | E33: 0 | F33: 3950 | G33: 4600 | H33: 4600 | I33: m | K33: Surface footprint feasibility design file
C34: Pit Safety Berm Volume (m3/m) | D34: 0 | E34: 0 | F34: 3.8 | G34: 3.8 | H34: 3.8 | I34: m3/m | K34: 1.5 m high, 1.5:1 side slopes, 0.3 m crest
C35: Pit Safety Berm Volume (m3) | D35: =D33*D34 -> 0 | E35: =E33*E34 -> 0 | F35: =F33*F34 -> 15010 | G35: =G33*G34 -> 17480 | H35: =H33*H34 -> 17480 | I35: m3 | K35: Calculated
C36: Drainage channels to be reclaimed - length | D36: 0 | E36: 16900 | F36: 21900 | G36: 33060 | H36: 33060 | I36: m | K36: Surface footprint feasibility design file
C37: Drainage channels fill volume | D37: 0 | E37: 102600 | F37: 127000 | G37: 166400 | H37: 166400 | I37: m3 | K37: Feasibility design file
C38: Drainage channels to be reclaimed - Regrade quantities | D38: =D36*3*0.1 -> 0 | E38: =E36*3*0.1 -> 5070 | F38: =F36*3*0.1 -> 6570 | G38: =G36*3*0.1 -> 9918 | H38: =H36*3*0.1 -> 9918 | I38: m3 | K38: Estimate, D6 with 3 m wide blade, 0.1 m cut
C39: Finlayson Creek Pipeline | D39: 0 | E39: 0 | F39: 4970 | G39: 4970 | H39: 4970 | I39: m | K39: Feasibility design file
C40: Dewatering Trenches - Total Area | D40: 0 | E40: 0 | F40: 47500 | G40: 0 | H40: 0 | I40: m2 | K40: Surface footprint feasibility design file
C41: Dewatering Trenches - Regrade Area | D41: 0 | E41: 0 | F41: 47500 | G41: 0 | H41: 0 | I41: m2 | K41: Surface footprint feasibility design file
C42: Dewatering Trenches - Backfill Quantities | D42: 0 | E42: 0 | F42: 311400 | G42: 0 | H42: 0 | I42: m3 | K42: Feasibility design file
C43: Dewatering Trenches - Regrade Quantities | D43: =D40*0.1 -> 0 | E43: =E40*0.1 -> 0 | F43: =F40*0.1 -> 4750 | G43: =G40*0.1 -> 0 | H43: =H40*0.1 -> 0 | I43: m3 | K43: Calculated
C45: Class A SF - Surface Area | D45: 0 | E45: 0 | F45: =525700-F46-F47 -> 227900 | G45: 739200 | H45: 739200 | I45: m2 | K45: Feasibility design file
C46: Class A SF - Surface Area, Cleared not Used | D46: 0 | E46: 0 | F46: 163400 | G46: 0 | H46: 0 | I46: m2 | K46: Feasibility design file | P46: Cleared for expansion, but does not have rock or tailings placed on it
C47: Class A SF - Buttress Area | D47: 0 | E47: 0 | F47: 134400 | G47: 134400 | H47: 134400 | I47: m2 | K47: Feasibility design file | P47: Will be reclaimed prior to closure
C48: Class A - Collection Pond | D48: 0 | E48: 0 | F48: 82300 | G48: 82300 | H48: 82300 | I48: m2 | K48: Surface footprint feasibility design file
C49: Class A - Collection Pond Liner | D49: 0 | E49: 0 | F49: 25000 | G49: 25000 | H49: 25000 | I49: m2 | K49: Feasibility design file
...

Sheet EquipProd
B1: Summary of Individual Equipment Productivities
B3: Unit | C3: m3/hr
B4: =C53 -> D6 Rock pushing | C4: =F53 -> 104.96449
B5: =C54 -> D6 Loose recontouring | C5: =F54 -> 334.5743
B6: =C55 -> D6 Linear recontouring | C6: =F55 -> 250.93072
B7: =C56 -> D6 Berm building | C7: =F56 -> 86.5957
B8: =C57 -> D8 Rock pushing | C8: =F57 -> 157.44673
B9: =C58 -> D8 Loose recontouring | C9: =F58 -> 541.69172
B10: =C59 -> D8 Linear recontouring | C10: =F59 -> 406.26879
B11: =C60 -> D8 Berm building | C11: =F60 -> 140.20256
B12: =C61 -> D9 Rock pushing | C12: =F61 -> 230.92187
B13: =C62 -> D9 Rock recontouring | C13: =F62 -> 479.83765
B14: =C63 -> D9 Rock recontouring - long push | C14: =F63 -> 109.96279
B15: =C64 -> D9 Loose recontouring | C15: =F64 -> 764.74125
... B21: =C70 -> D10 Berm building | C21: =F70 -> 280.40512
B22: =C76 -> Cat 329 loose loading | C22: =I76 -> 252
B23: =C77 -> Cat 329 digging | C23: =I77 -> 132
B24: =C78 -> Cat 235 loose loading | C24: =I78 -> 273.6
B25: =C79 -> Cat 235 digging | C25: =I79 -> 156
B26: =C80 -> Cat 345 loose loading | C26: =I80 -> 348
B27: =C81 -> Cat 345 rock loading | C27: =I81 -> 276
B28: =C82 -> Cat 345 digging | C28: =I82 -> 240
B29: =C88 -> Roller compacting | C29: =I88 -> 226.21711
B30: ='T2 - Unit Rates'!C71 -> Zone F - Crush & Screen | C30: =231/1.9 -> 121.57895
B31: ='T2 - Unit Rates'!C72 -> Zone S - Crush & Screen | C31: =272/1.9 -> 143.15789
B32: =C94 -> Cat 966 Rock Loading | C32: =O94 -> 233.06452
B33: =C95 -> Cat 980 Rock Loading | C33: =O95 -> 301.6129
B34: =C96 -> Cat 988 Crushed Loading | C34: =O96 -> 429.85075
B35: Cat 988 Soil/Gravel Loading | C35: =O97 -> 443.07692
B36: =C98 -> Cat 988 Rock Loading | C36: =O98 -> 405.97015
B37: =C99 -> Cat 992 Rock Loading | C37: =O99 -> 631.59722
B48: Dozer Production Rates
H49: Job Condition Correction Factors
H50: Operator | J50: Material | L50: Slot Dozing | M50: Side by Side Dozing | N50: Visibility | Q50: Job Efficiency | S50: Grades | V50: =Lists!$B$3 -> 5
B51: Dozer | C51: Activity | D51: Assumed Average Dozing Distance | E51: Uncorrected Est. Dozing Production | F51: Corrected Est. Dozing Production | G51: Est. Linear Dozing Production | H51: Description | I51: Factor | J51: Description | K51: Factor | Q51: Description | R51: Factor | S51: % Grade | T51: Factor
D52: m | E52: Lm3/hr | F52: Lm3/hr | G52: m/hr | O52: Weight | P52: Linear | V52: $/m3
B53: CAT D6D | C53: D6 Rock pushing | D53: 60 | E53: 250 | F53: =E53*I53*K53*L53*M53*N53*O53*P53*R53*T53 -> 104.96449 | H53: Average | I53: 0.75 | J53: Rock | K53: 0.8 | L53: 1 | M53: 1 | N53: 1 | O53: =1365/1700 -> 0.80294118 | P53: 1 | Q53: 50 min/hr | R53: 0.83 | S53: -3 | T53: 1.05 | V53: =VLOOKUP(B53,'T2 - Unit Rates'!$C$7:$J$55,$V$50,FALSE)/F53 -> 2.7399744
B54: CAT D6D | C54: D6 Loose recontouring | D54: 15 | E54: 525 | F54: =E54*I54*K54*L54*M54*N54*O54*P54*R54*T54 -> 334.5743 | H54: Average | I54: 0.75 | J54: Loose | K54: 1.2 | L54: 1 | M54: 1 | N54: 1 | O54: =1365/1600 -> 0.853125 | P54: 1 | Q54: 50 min/hr | R54: 0.83 | S54: 0 | T54: 1 | V54: =VLOOKUP(B54,'T2 - Unit Rates'!$C$7:$J$55,$V$50,FALSE)/F54 -> 0.8595998
B55: CAT D6D | C55: D6 Linear recontouring | D55: 15 | E55: 525 | F55: =E55*I55*K55*L55*M55*N55*O55*P55*R55*T55 -> 250.93072 | G55: =F55*0.3 -> 75.279217 | H55: Average | I55: 0.75 | J55: Loose | K55: 1.2 | L55: 1 | M55: 1 | N55: 1 | O55: =1365/1600 -> 0.853125 | P55: 0.75 | Q55: 50 min/hr | R55: 0.83 | S55: 0 | T55: 1 | V55: =VLOOKUP(B55,'T2 - Unit Rates'!$C$7:$J$55,$V$50,FALSE)/F55 -> 1.1461331
B56: CAT D6D | C56: D6 Berm building | D56: 15 | E56: 525 | F56: =E56*I56*K56*L56*M56*N56*O56*P56*R56*T56 -> 86.5957 | H56: Average | I56: 0.75 | J56: Rock | K56: 0.8 | L56: 1 | M56: 1 | N56: 1 | O56: =1365/1700 -> 0.80294118 | P56: 0.75 | Q56: 50 min/hr | R56: 0.83 | S56: 20 | T56: 0.55 | V56: =VLOOKUP(B56,'T2 - Unit Rates'!$C$7:$J$55,$V$50,FALSE)/F56 -> 3.3211811
...

Sheet LHD
B1: Table 7
B2: Load, Haul, Dump | W2: =Lists!$B$3 -> 5
B4: Task Description | C4: From | D4: To | E4: Loader | F4: Truck | G4: Loader Job Classification | H4: Unit Transported Volume | I4: Truck Position Time | J4: Load Time | K4: Haul Distance | L4: Average Haul Speed | M4: Dump Time | N4: Haul Back Distance | O4: Turn-a-round Time | P4: Efficiency | Q4: Daily Work Duration | R4: Loads per Day per Truck | S4: Volume per Day per Truck | T4: Productivity per Truck | U4: Number of Trucks Required | V4: Fleet Productivity | W4: Truck Rate | X4: Excavator Rate | Y4: Total Equipment Rate | Z4: Volume Cost
H5: m3/load | J5: min | K5: km | L5: km/hr | M5: min | N5: km | O5: min | P5: Min/hour | Q5: hours | R5: LPD | S5: m3 | T5: m3/hr | V5: m3/hr | W5: $/hr | X5: $/hr | Y5: $/hr | Z5: $/m3
B6: ROM Pad Cleanup | C6: Ore Stockpile Pads | D6: Class A SF | E6: ='T2 - Unit Rates'!$C$25 -> CAT 345 (45 ton) | F6: ='T2 - Unit Rates'!$C$33 -> 90 ton Rigid Haul Truck | G6: =EquipProd!$C$80 -> Cat 345 loose loading | H6: =VLOOKUP(F6,'T2 - Unit Rates'!$C$7:$K$55,9,FALSE) -> 64.1 | I6: 0.25 | J6: =H6/(VLOOKUP(G6,EquipProd!$C$76:$I$83,7,FALSE)/60) -> 11.051724 | K6: 1.6 | L6: 30 | M6: 1 | N6: =K6 -> 1.6 | O6: =I6+J6+(K6*60/L6)+(N6*60/L6)+M6 -> 18.701724 | P6: 50 | Q6: 12 | R6: =60/O6*Q6*P6/60 -> 32.082603 | S6: =R6*H6 -> 2056.4949 | T6: =S6/Q6 -> 171.37457 | U6: =ROUNDUP(V6/T6,0) -> 3 | V6: =VLOOKUP(G6,Productivity,2,FALSE) -> 348 | W6: =VLOOKUP(F6,EquipRates,$W$2,FALSE) -> 500.1 | X6: =VLOOKUP(E6,EquipRates,$W$2,FALSE) -> 379.75 | Y6: =W6*U6+X6 -> 1880.05 | Z6: =Y6/V6 -> 5.4024425
B7: Explosive Magazine Cleanup | C7: Explosives plant | D7: Class A SF | E7: ='T2 - Unit Rates'!$C$25 -> CAT 345 (45 ton) | F7: ='T2 - Unit Rates'!$C$33 -> 90 ton Rigid Haul Truck | G7: =EquipProd!$C$80 -> Cat 345 loose loading | H7: =VLOOKUP(F7,'T2 - Unit Rates'!$C$7:$K$55,9,FALSE) -> 64.1 | I7: 0.25 | J7: =H7/(VLOOKUP(G7,EquipProd!$C$76:$I$83,7,FALSE)/60) -> 11.051724 | K7: 5.4 | L7: 30 | M7: 1 | N7: =K7 -> 5.4 | O7: =I7+J7+(K7*60/L7)+(N7*60/L7)+M7 -> 33.901724 | P7: 50 | Q7: 12 | R7: =60/O7*Q7*P7/60 -> 17.698215 | S7: =R7*H7 -> 1134.4556 | T7: =S7/Q7 -> 94.537965 | U7: =ROUNDUP(V7/T7,0) -> 4 | V7: =VLOOKUP(G7,Productivity,2,FALSE) -> 348 | W7: =VLOOKUP(F7,EquipRates,$W$2,FALSE) -> 500.1 | X7: =VLOOKUP(E7,EquipRates,$W$2,FALSE) -> 379.75 | Y7: =W7*U7+X7 -> 2380.15 | Z7: =Y7/V7 -> 6.8395115
B8: Mining Workshop Overburden | C8: Overburden SP | D8: Mining Workshop | E8: ='T2 - Unit Rates'!$C$41 -> CAT 988 | F8: ='T2 - Unit Rates'!$C$33 -> 90 ton Rigid Haul Truck | G8: =EquipProd!$C$97 -> Cat 988 Soil/Gravel Loading | H8: =VLOOKUP(F8,'T2 - Unit Rates'!$C$7:$K$55,9,FALSE) -> 64.1 | I8: 0.25 | J8: =H8/(VLOOKUP(G8,EquipProd!$C$94:$O$101,13,FALSE)/60) -> 8.6802083 | K8: 3.4 | L8: 30 | M8: 1 | N8: =K8 -> 3.4 | O8: =I8+J8+(K8*60/L8)+(N8*60/L8)+M8 -> 23.530208 | P8: 50 | Q8: 12 | R8: =60/O8*Q8*P8/60 -> 25.499137 | S8: =R8*H8 -> 1634.4947 | T8: =S8/Q8 -> 136.20789 | U8: =ROUNDUP(V8/T8,0) -> 4 | V8: =VLOOKUP(G8,Productivity,2,FALSE) -> 443.07692 | W8: =VLOOKUP(F8,EquipRates,$W$2,FALSE) -> 500.1 | X8: =VLOOKUP(E8,EquipRates,$W$2,FALSE) -> 398.55 | Y8: =W8*U8+X8 -> 2398.95 | Z8: =Y8/V8 -> 5.4142969
B9: Mining Workshop Topsoil | C9: Workshop Topsoil SP | D9: Mining Workshop | E9: ='T2 - Unit Rates'!$C$41 -> CAT 988 | F9: ='T2 - Unit Rates'!$C$33 -> 90 ton Rigid Haul Truck | G9: =EquipProd!$C$97 -> Cat 988 Soil/Gravel Loading | H9: =VLOOKUP(F9,'T2 - Unit Rates'!$C$7:$K$55,9,FALSE) -> 64.1 | I9: 0.25 | J9: =H9/(VLOOKUP(G9,EquipProd!$C$94:$O$101,13,FALSE)/60) -> 8.6802083 | K9: 0.3 | L9: 30 | M9: 1 | N9: =K9 -> 0.3 | O9: =I9+J9+(K9*60/L9)+(N9*60/L9)+M9 -> 11.130208 | P9: 50 | Q9: 12 | R9: =60/O9*Q9*P9/60 -> 53.907347 | S9: =R9*H9 -> 3455.4609 | T9: =S9/Q9 -> 287.95508 | U9: =ROUNDUP(V9/T9,0) -> 2 | V9: =VLOOKUP(G9,Productivity,2,FALSE) -> 443.07692 | W9: =VLOOKUP(F9,EquipRates,$W$2,FALSE) -> 500.1 | X9: =VLOOKUP(E9,EquipRates,$W$2,FALSE) -> 398.55 | Y9: =W9*U9+X9 -> 1398.75 | Z9: =Y9/V9 -> 3.156901
B10: Mill Site Overburden | C10: Overburden SP | D10: Mill Site | E10: ='T2 - Unit Rates'!$C$41 -> CAT 988 | F10: ='T2 - Unit Rates'!$C$33 -> 90 ton Rigid Haul Truck | G10: Cat 988 Crushed Loading | H10: =VLOOKUP(F10,'T2 - Unit Rates'!$C$7:$K$55,9,FALSE) -> 64.1 | I10: 0.25 | J10: =H10/(VLOOKUP(G10,EquipProd!$C$94:$O$101,13,FALSE)/60) -> 8.9472917 | K10: 3.9 | L10: 30 | M10: 1 | N10: =K10 -> 3.9 | O10: =I10+J10+(K10*60/L10)+(N10*60/L10)+M10 -> 25.797292 | P10: 50 | Q10: 12 | R10: =60/O10*Q10*P10/60 -> 23.258255 | S10: =R10*H10 -> 1490.8542 | T10: =S10/Q10 -> 124.23785 | U10: =ROUNDUP(V10/T10,0) -> 4 | V10: =VLOOKUP(G10,Productivity,2,FALSE) -> 429.85075 | W10: =VLOOKUP(F10,EquipRates,$W$2,FALSE) -> 500.1 | X10: =VLOOKUP(E10,EquipRates,$W$2,FALSE) -> 398.55 | Y10: =W10*U10+X10 -> 2398.95 | Z10: =Y10/V10 -> 5.5808906
B11: Mill Site Topsoil | C11: Mill Topsoil SP | D11: Mill Site | E11: ='T2 - Unit Rates'!$C$41 -> CAT 988 | F11: ='T2 - Unit Rates'!$C$33 -> 90 ton Rigid Haul Truck | G11: =EquipProd!$C$97 -> Cat 988 Soil/Gravel Loading | H11: =VLOOKUP(F11,'T2 - Unit Rates'!$C$7:$K$55,9,FALSE) -> 64.1 | I11: 0.25 | J11: =H11/(VLOOKUP(G11,EquipProd!$C$94:$O$101,13,FALSE)/60) -> 8.6802083 | K11: 0.3 | L11: 30 | M11: 1 | N11: =K11 -> 0.3 | O11: =I11+J11+(K11*60/L11)+(N11*60/L11)+M11 -> 11.130208 | P11: 50 | Q11: 12 | R11: =60/O11*Q11*P11/60 -> 53.907347 | S11: =R11*H11 -> 3455.4609 | T11: =S11/Q11 -> 287.95508 | U11: =ROUNDUP(V11/T11,0) -> 2 | V11: =VLOOKUP(G11,Productivity,2,FALSE) -> 443.07692 | W11: =VLOOKUP(F11,EquipRates,$W$2,FALSE) -> 500.1 | X11: =VLOOKUP(E11,EquipRates,$W$2,FALSE) -> 398.55 | Y11: =W11*U11+X11 -> 1398.75 | Z11: =Y11/V11 -> 3.156901
B12: Topsoil - General Areas | C12: General Areas Topsoil SP | D12: General Areas | E12: ='T2 - Unit Rates'!$C$41 -> CAT 988 | F12: ='T2 - Unit Rates'!$C$33 -> 90 ton Rigid Haul Truck | G12: =EquipProd!$C$97 -> Cat 988 Soil/Gravel Loading | H12: =VLOOKUP(F12,'T2 - Unit Rates'!$C$7:$K$55,9,FALSE) -> 64.1 | I12: 0.25 | J12: =H12/(VLOOKUP(G12,EquipProd!$C$94:$O$101,13,FALSE)/60) -> 8.6802083 | K12: 0.3 | L12: 30 | M12: 1 | N12: =K12 -> 0.3 | O12: =I12+J12+(K12*60/L12)+(N12*60/L12)+M12 -> 11.130208 | P12: 50 | Q12: 12 | R12: =60/O12*Q12*P12/60 -> 53.907347 | S12: =R12*H12 -> 3455.4609 | T12: =S12/Q12 -> 287.95508 | U12: =ROUNDUP(V12/T12,0) -> 2 | V12: =VLOOKUP(G12,Productivity,2,FALSE) -> 443.07692 | W12: =VLOOKUP(F12,EquipRates,$W$2,FALSE) -> 500.1 | X12: =VLOOKUP(E12,EquipRates,$W$2,FALSE) -> 398.55 | Y12: =W12*U12+X12 -> 1398.75 | Z12: =Y12/V12 -> 3.156901
B13: Class A Glacial Till | C13: Class A & B Cover Mat SP | D13: Class A SF | E13: ='T2 - Unit Rates'!$C$41 -> CAT 988 | F13: ='T2 - Unit Rates'!$C$33 -> 90 ton Rigid Haul Truck | G13: Cat 988 Crushed Loading | H13: =VLOOKUP(F13,'T2 - Unit Rates'!$C$7:$K$55,9,FALSE) -> 64.1 | I13: 0.25 | J13: =H13/(VLOOKUP(G13,EquipProd!$C$94:$O$101,13,FALSE)/60) -> 8.9472917 | K13: 0.7 | L13: 30 | M13: 1 | N13: =K13 -> 0.7 | O13: =I13+J13+(K13*60/L13)+(N13*60/L13)+M13 -> 12.997292 | P13: 50 | Q13: 12 | R13: =60/O13*Q13*P13/60 -> 46.163464 | S13: =R13*H13 -> 2959.078 | T13: =S13/Q13 -> 246.58983 | U13: =ROUNDUP(V13/T13,0) -> 2 | V13: =VLOOKUP(G13,Productivity,2,FALSE) -> 429.85075 | W13: =VLOOKUP(F13,EquipRates,$W$2,FALSE) -> 500.1 | X13: =VLOOKUP(E13,EquipRates,$W$2,FALSE) -> 398.55 | Y13: =W13*U13+X13 -> 1398.75 | Z13: =Y13/V13 -> 3.2540365
B14: Class A Liner Protection | C14: Crush & Screen Plant | D14: Class A SF | E14: ='T2 - Unit Rates'!$C$41 -> CAT 988 | F14: ='T2 - Unit Rates'!$C$33 -> 90 ton Rigid Haul Truck | G14: =EquipProd!$C$97 -> Cat 988 Soil/Gravel Loading | H14: =VLOOKUP(F14,'T2 - Unit Rates'!$C$7:$K$55,9,FALSE) -> 64.1 | I14: 0.25 | J14: =H14/(VLOOKUP(G14,EquipProd!$C$94:$O$101,13,FALSE)/60) -> 8.6802083 | K14: 2.5 | L14: 30 | M14: 1 | N14: =K14 -> 2.5 | O14: =I14+J14+(K14*60/L14)+(N14*60/L14)+M14 -> 19.930208 | P14: 50 | Q14: 12 | R14: =60/O14*Q14*P14/60 -> 30.105054 | S14: =R14*H14 -> 1929.734 | T14: =S14/Q14 -> 160.81116 | U14: =ROUNDUP(V14/T14,0) -> 3 | V14: =VLOOKUP(G14,Productivity,2,FALSE) -> 443.07692 | W14: =VLOOKUP(F14,EquipRates,$W$2,FALSE) -> 500.1 | X14: =VLOOKUP(E14,EquipRates,$W$2,FALSE) -> 398.55 | Y14: =W14*U14+X14 -> 1898.85 | Z14: =Y14/V14 -> 4.285599
B15: Class A Frost Protect - Progressive | C15: Pit | D15: Class A SF | F15: ='T2 - Unit Rates'!$C$34 -> 140 ton Rigid Haul Truck | G15: 400 ton Excavator | H15: =VLOOKUP(F15,'T2 - Unit Rates'!$C$7:$K$55,9,FALSE) -> 84 | I15: 0.25 | J15: 5 | K15: 0.7 | L15: 30 | M15: 1 | N15: =K15 -> 0.7 | O15: =I15+J15+(K15*60/L15)+(N15*60/L15)+M15 -> 9.05 | P15: 50 | Q15: 12 | R15: =60/O15*Q15*P15/60 -> 66.298343 | S15: =R15*H15 -> 5569.0608 | T15: =S15/Q15 -> 464.0884 | Z15: 0.37 | AB15: Price difference between hauling to Class A and Class C
B16: Class A Frost Protection - Closure - YG | C16: Class A & B Cover Mat SP | D16: Class A SF | E16: ='T2 - Unit Rates'!$C$41 -> CAT 988 | F16: ='T2 - Unit Rates'!$C$33 -> 90 ton Rigid Haul Truck | G16: =EquipProd!$C$98 -> Cat 988 Rock Loading | H16: =VLOOKUP(F16,'T2 - Unit Rates'!$C$7:$K$55,9,FALSE) -> 64.1 | I16: 0.25 | J16: =H16/(VLOOKUP(G16,EquipProd!$C$94:$O$101,13,FALSE)/60) -> 9.4736029 | K16: 0.7 | L16: 30 | M16: 1 | N16: =K16 -> 0.7 | O16: =I16+J16+(K16*60/L16)+(N16*60/L16)+M16 -> 13.523603 | P16: 50 | Q16: 12 | R16: =60/O16*Q16*P16/60 -> 44.366875 | S16: =R16*H16 -> 2843.9167 | T16: =S16/Q16 -> 236.99306 | U16: =ROUNDUP(V16/T16,0) -> 2 | V16: =VLOOKUP(G16,Productivity,2,FALSE) -> 405.97015 | W16: =VLOOKUP(F16,EquipRates,$W$2,FALSE) -> 500.1 | X16: =VLOOKUP(E16,EquipRates,$W$2,FALSE) -> 398.55 | Y16: =W16*U16+X16 -> 1398.75 | Z16: =Y16/V16 -> 3.4454504
B17: Class A Frost Protection - Closure - BMC | C17: Class A & B Cover Mat SP | D17: Class A SF | E17: ='T2 - Unit Rates'!$C$42 -> CAT 992 | F17: ='T2 - Unit Rates'!$C$34 -> 140 ton Rigid Haul Truck | G17: =EquipProd!$C$99 -> Cat 992 Rock Loading | H17: =VLOOKUP(F17,'T2 - Unit Rates'!$C$7:$K$55,9,FALSE) -> 84 | I17: 0.25 | J17: =H17/(VLOOKUP(G17,EquipProd!$C$94:$O$101,13,FALSE)/60) -> 7.9797691 | K17: 0.7 | L17: 30 | M17: 1 | N17: =K17 -> 0.7 | O17: =I17+J17+(K17*60/L17)+(N17*60/L17)+M17 -> 12.029769 | P17: 50 | Q17: 12 | R17: =60/O17*Q17*P17/60 -> 49.876269 | S17: =R17*H17 -> 4189.6066 | T17: =S17/Q17 -> 349.13388 | U17: =ROUNDUP(V17/T17,0) -> 2 | V17: =VLOOKUP(G17,Productivity,2,FALSE) -> 631.59722 | W17: =VLOOKUP(F17,EquipRates,$W$2,FALSE) -> 575.3 | X17: =VLOOKUP(E17,EquipRates,$W$2,FALSE) -> 398.55 | Y17: =W17*U17+X17 -> 1549.15 | Z17: =Y17/V17 -> 2.4527499
B18: Class A Overburden | C18: Class A Overburden SP | D18: Class A SF | E18: ='T2 - Unit Rates'!$C$41 -> CAT 988 | F18: ='T2 - Unit Rates'!$C$33 -> 90 ton Rigid Haul Truck | G18: Cat 988 Crushed Loading | H18: =VLOOKUP(F18,'T2 - Unit Rates'!$C$7:$K$55,9,FALSE) -> 64.1 | I18: 0.25 | J18: =H18/(VLOOKUP(G18,EquipProd!$C$94:$O$101,13,FALSE)/60) -> 8.9472917 | K18: 0.7 | L18: 30 | M18: 1 | N18: =K18 -> 0.7 | O18: =I18+J18+(K18*60/L18)+(N18*60/L18)+M18 -> 12.997292 | P18: 50 | Q18: 12 | R18: =60/O18*Q18*P18/60 -> 46.163464 | S18: =R18*H18 -> 2959.078 | T18: =S18/Q18 -> 246.58983 | U18: =ROUNDUP(V18/T18,0) -> 2 | V18: =VLOOKUP(G18,Productivity,2,FALSE) -> 429.85075 | W18: =VLOOKUP(F18,EquipRates,$W$2,FALSE) -> 500.1 | X18: =VLOOKUP(E18,EquipRates,$W$2,FALSE) -> 398.55 | Y18: =W18*U18+X18 -> 1398.75 | Z18: =Y18/V18 -> 3.2540365
B19: Class A Topsoil | C19: Class A Topsoil SP | D19: Class A SF | E19: ='T2 - Unit Rates'!$C$41 -> CAT 988 | F19: ='T2 - Unit Rates'!$C$33 -> 90 ton Rigid Haul Truck | G19: =EquipProd!$C$97 -> Cat 988 Soil/Gravel Loading | H19: =VLOOKUP(F19,'T2 - Unit Rates'!$C$7:$K$55,9,FALSE) -> 64.1 | I19: 0.25 | J19: =H19/(VLOOKUP(G19,EquipProd!$C$94:$O$101,13,FALSE)/60) -> 8.6802083 | K19: 0.7 | L19: 30 | M19: 1 | N19: =K19 -> 0.7 | O19: =I19+J19+(K19*60/L19)+(N19*60/L19)+M19 -> 12.730208 | P19: 50 | Q19: 12 | R19: =60/O19*Q19*P19/60 -> 47.131986 | S19: =R19*H19 -> 3021.1603 | T19: =S19/Q19 -> 251.76336 | U19: =ROUNDUP(V19/T19,0) -> 2 | V19: =VLOOKUP(G19,Productivity,2,FALSE) -> 443.07692 | W19: =VLOOKUP(F19,EquipRates,$W$2,FALSE) -> 500.1 | X19: =VLOOKUP(E19,EquipRates,$W$2,FALSE) -> 398.55 | Y19: =W19*U19+X19 -> 1398.75 | Z19: =Y19/V19 -> 3.156901
B20: Class B Glacial Till | C20: Class B Cover Mat SP | D20: Class B SF | E20: ='T2 - Unit Rates'!$C$41 -> CAT 988 | F20: ='T2 - Unit Rates'!$C$33 -> 90 ton Rigid Haul Truck | G20: Cat 988 Crushed Loading | H20: =VLOOKUP(F20,'T2 - Unit Rates'!$C$7:$K$55,9,FALSE) -> 64.1 | I20: 0.25 | J20: =H20/(VLOOKUP(G20,EquipProd!$C$94:$O$101,13,FALSE)/60) -> 8.9472917 | K20: 0.8 | L20: 30 | M20: 1 | N20: =K20 -> 0.8 | O20: =I20+J20+(K20*60/L20)+(N20*60/L20)+M20 -> 13.397292 | P20: 50 | Q20: 12 | R20: =60/O20*Q20*P20/60 -> 44.785171 | S20: =R20*H20 -> 2870.7295 | T20: =S20/Q20 -> 239.22746 | U20: =ROUNDUP(V20/T20,0) -> 2 | V20: =VLOOKUP(G20,Productivity,2,FALSE) -> 429.85075 | W20: =VLOOKUP(F20,EquipRates,$W$2,FALSE) -> 500.1 | X20: =VLOOKUP(E20,EquipRates,$W$2,FALSE) -> 398.55 | Y20: =W20*U20+X20 -> 1398.75 | Z20: =Y20/V20 -> 3.2540365
B21: Class B Liner Protection | C21: Crush & Screen Plant | D21: Class B SF | E21: ='T2 - Unit Rates'!$C$41 -> CAT 988 | F21: ='T2 - Unit Rates'!$C$33 -> 90 ton Rigid Haul Truck | G21: =EquipProd!$C$97 -> Cat 988 Soil/Gravel Loading | H21: =VLOOKUP(F21,'T2 - Unit Rates'!$C$7:$K$55,9,FALSE) -> 64.1 | I21: 0.25 | J21: =H21/(VLOOKUP(G21,EquipProd!$C$94:$O$101,13,FALSE)/60) -> 8.6802083 | K21: 2.1 | L21: 30 | M21: 1 | N21: =K21 -> 2.1 | O21: =I21+J21+(K21*60/L21)+(N21*60/L21)+M21 -> 18.330208 | P21: 50 | Q21: 12 | R21: =60/O21*Q21*P21/60 -> 32.732852 | S21: =R21*H21 -> 2098.1758 | T21: =S21/Q21 -> 174.84799 | U21: =ROUNDUP(V21/T21,0) -> 3 | V21: =VLOOKUP(G21,Productivity,2,FALSE) -> 443.07692 | W21: =VLOOKUP(F21,EquipRates,$W$2,FALSE) -> 500.1 | X21: =VLOOKUP(E21,EquipRates,$W$2,FALSE) -> 398.55 | Y21: =W21*U21+X21 -> 1898.85 | Z21: =Y21/V21 -> 4.285599
B22: Class B Frost Protect - Progressive | C22: Pit | D22: Class B SF | F22: ='T2 - Unit Rates'!$C$34 -> 140 ton Rigid Haul Truck | G22: 400 ton Excavator | H22: =VLOOKUP(F22,'T2 - Unit Rates'!$C$7:$K$55,9,FALSE) -> 84 | I22: 0.25 | J22: 5 | K22: 0.7 | L22: 30 | M22: 1 | N22: =K22 -> 0.7 | O22: =I22+J22+(K22*60/L22)+(N22*60/L22)+M22 -> 9.05 | P22: 50 | Q22: 12 | R22: =60/O22*Q22*P22/60 -> 66.298343 | S22: =R22*H22 -> 5569.0608 | T22: =S22/Q22 -> 464.0884 | Z22: 0 | AB22: Price difference between hauling to Class B and Class C
B23: Class B Frost Protection - Closure - YG | C23: Class A & B Cover Mat SP | D23: Class B SF | E23: ='T2 - Unit Rates'!$C$41 -> CAT 988 | F23: ='T2 - Unit Rates'!$C$33 -> 90 ton Rigid Haul Truck | G23: =EquipProd!$C$98 -> Cat 988 Rock Loading | H23: =VLOOKUP(F23,'T2 - Unit Rates'!$C$7:$K$55,9,FALSE) -> 64.1 | I23: 0.25 | J23: =H23/(VLOOKUP(G23,EquipProd!$C$94:$O$101,13,FALSE)/60) -> 9.4736029 | K23: 0.8 | L23: 30 | M23: 1 | N23: =K23 -> 0.8 | O23: =I23+J23+(K23*60/L23)+(N23*60/L23)+M23 -> 13.923603 | P23: 50 | Q23: 12 | R23: =60/O23*Q23*P23/60 -> 43.092295 | S23: =R23*H23 -> 2762.2161 | T23: =S23/Q23 -> 230.18467 | U23: =ROUNDUP(V23/T23,0) -> 2 | V23: =VLOOKUP(G23,Productivity,2,FALSE) -> 405.97015 | W23: =VLOOKUP(F23,EquipRates,$W$2,FALSE) -> 500.1 | X23: =VLOOKUP(E23,EquipRates,$W$2,FALSE) -> 398.55 | Y23: =W23*U23+X23 -> 1398.75 | Z23: =Y23/V23 -> 3.4454504
B24: Class B Frost Protection - Closure - BMC | C24: Class A & B Cover Mat SP | D24: Class B SF | E24: ='T2 - Unit Rates'!$C$42 -> CAT 992 | F24: ='T2 - Unit Rates'!$C$34 -> 140 ton Rigid Haul Truck | G24: =EquipProd!$C$99 -> Cat 992 Rock Loading | H24: =VLOOKUP(F24,'T2 - Unit Rates'!$C$7:$K$55,9,FALSE) -> 84 | I24: 0.25 | J24: =H24/(VLOOKUP(G24,EquipProd!$C$94:$O$101,13,FALSE)/60) -> 7.9797691 | K24: 0.8 | L24: 30 | M24: 1 | N24: =K24 -> 0.8 | O24: =I24+J24+(K24*60/L24)+(N24*60/L24)+M24 -> 12.429769 | P24: 50 | Q24: 12 | R24: =60/O24*Q24*P24/60 -> 48.27121 | S24: =R24*H24 -> 4054.7817 | T24: =S24/Q24 -> 337.89847 | U24: =ROUNDUP(V24/T24,0) -> 2 | V24: =VLOOKUP(G24,Productivity,2,FALSE) -> 631.59722 | W24: =VLOOKUP(F24,EquipRates,$W$2,FALSE) -> 575.3 | X24: =VLOOKUP(E24,EquipRates,$W$2,FALSE) -> 398.55 | Y24: =W24*U24+X24 -> 1549.15 | Z24: =Y24/V24 -> 2.4527499
B25: Class B Overburden | C25: Class B Overburden SP | D25: Class B SF | E25: ='T2 - Unit Rates'!$C$41 -> CAT 988 | F25: ='T2 - Unit Rates'!$C$33 -> 90 ton Rigid Haul Truck | G25: Cat 988 Crushed Loading | H25: =VLOOKUP(F25,'T2 - Unit Rates'!$C$7:$K$55,9,FALSE) -> 64.1 | I25: 0.25 | J25: =H25/(VLOOKUP(G25,EquipProd!$C$94:$O$101,13,FALSE)/60) -> 8.9472917 | K25: 0.8 | L25: 30 | M25: 1 | N25: =K25 -> 0.8 | O25: =I25+J25+(K25*60/L25)+(N25*60/L25)+M25 -> 13.397292 | P25: 50 | Q25: 12 | R25: =60/O25*Q25*P25/60 -> 44.785171 | S25: =R25*H25 -> 2870.7295 | T25: =S25/Q25 -> 239.22746 | U25: =ROUNDUP(V25/T25,0) -> 2 | V25: =VLOOKUP(G25,Productivity,2,FALSE) -> 429.85075 | W25: =VLOOKUP(F25,EquipRates,$W$2,FALSE) -> 500.1 | X25: =VLOOKUP(E25,EquipRates,$W$2,FALSE) -> 398.55 | Y25: =W25*U25+X25 -> 1398.75 | Z25: =Y25/V25 -> 3.2540365
B26: Class B Topsoil | C26: Class B Topsoil SP | D26: Class B SF | E26: ='T2 - Unit Rates'!$C$41 -> CAT 988 | F26: ='T2 - Unit Rates'!$C$33 -> 90 ton Rigid Haul Truck | G26: =EquipProd!$C$97 -> Cat 988 Soil/Gravel Loading | H26: =VLOOKUP(F26,'T2 - Unit Rates'!$C$7:$K$55,9,FALSE) -> 64.1 | I26: 0.25 | J26: =H26/(VLOOKUP(G26,EquipProd!$C$94:$O$101,13,FALSE)/60) -> 8.6802083 | K26: 0.8 | L26: 30 | M26: 1 | N26: =K26 -> 0.8 | O26: =I26+J26+(K26*60/L26)+(N26*60/L26)+M26 -> 13.130208 | P26: 50 | Q26: 12 | R26: =60/O26*Q26*P26/60 -> 45.696152 | S26: =R26*H26 -> 2929.1234 | T26: =S26/Q26 -> 244.09361 | U26: =ROUNDUP(V26/T26,0) -> 2 | V26: =VLOOKUP(G26,Productivity,2,FALSE) -> 443.07692 | W26: =VLOOKUP(F26,EquipRates,$W$2,FALSE) -> 500.1 | X26: =VLOOKUP(E26,EquipRates,$W$2,FALSE) -> 398.55 | Y26: =W26*U26+X26 -> 1398.75 | Z26: =Y26/V26 -> 3.156901
B27: Class C Overburden | C27: Overburden SP | D27: Class C Storage | E27: ='T2 - Unit Rates'!$C$41 -> CAT 988 | F27: ='T2 - Unit Rates'!$C$33 -> 90 ton Rigid Haul Truck | G27: Cat 988 Crushed Loading | H27: =VLOOKUP(F27,'T2 - Unit Rates'!$C$7:$K$55,9,FALSE) -> 64.1 | I27: 0.25 | J27: =H27/(VLOOKUP(G27,EquipProd!$C$94:$O$101,13,FALSE)/60) -> 8.9472917 | K27: 3.2 | L27: 30 | M27: 1 | N27: =K27 -> 3.2 | O27: =I27+J27+(K27*60/L27)+(N27*60/L27)+M27 -> 22.997292 | P27: 50 | Q27: 12 | R27: =60/O27*Q27*P27/60 -> 26.090029 | S27: =R27*H27 -> 1672.3708 | T27: =S27/Q27 -> 139.36424 | U27: =ROUNDUP(V27/T27,0) -> 4 | V27: =VLOOKUP(G27,Productivity,2,FALSE) -> 429.85075 | W27: =VLOOKUP(F27,EquipRates,$W$2,FALSE) -> 500.1 | X27: =VLOOKUP(E27,EquipRates,$W$2,FALSE) -> 398.55 | Y27: =W27*U27+X27 -> 2398.95 | Z27: =Y27/V27 -> 5.5808906
B28: Class C Topsoil | C28: Overburden SP | D28: Class C Storage | E28: ='T2 - Unit Rates'!$C$41 -> CAT 988 | F28: ='T2 - Unit Rates'!$C$33 -> 90 ton Rigid Haul Truck | G28: =EquipProd!$C$97 -> Cat 988 Soil/Gravel Loading | H28: =VLOOKUP(F28,'T2 - Unit Rates'!$C$7:$K$55,9,FALSE) -> 64.1 | I28: 0.25 | J28: =H28/(VLOOKUP(G28,EquipProd!$C$94:$O$101,13,FALSE)/60) -> 8.6802083 | K28: 1.4 | L28: 30 | M28: 1 | N28: =K28 -> 1.4 | O28: =I28+J28+(K28*60/L28)+(N28*60/L28)+M28 -> 15.530208 | P28: 50 | Q28: 12 | R28: =60/O28*Q28*P28/60 -> 38.634382 | S28: =R28*H28 -> 2476.4639 | T28: =S28/Q28 -> 206.37199 | U28: =ROUNDUP(V28/T28,0) -> 3 | V28: =VLOOKUP(G28,Productivity,2,FALSE) -> 443.07692 | W28: =VLOOKUP(F28,EquipRates,$W$2,FALSE) -> 500.1 | X28: =VLOOKUP(E28,EquipRates,$W$2,FALSE) -> 398.55 | Y28: =W28*U28+X28 -> 1898.85 | Z28: =Y28/V28 -> 4.285599
H29: =H28/406 -> 0.15788177
B35: Load, Haul, Dump, Spread, Compact, etc
B37: Task Description | C37: From | D37: To | E37: Volume Cost
E38: $/m3
B39: ROM Pad Cleanup | C39: =VLOOKUP($B39,$B$6:$Z$32,2,FALSE) -> Ore Stockpile Pads | D39: =VLOOKUP($B39,$B$6:$Z$32,3,FALSE) -> Class A SF | E39: =VLOOKUP($B39,$B$6:$Z$31,25,FALSE) -> 5.4024425
B40: Explosive Magazine Cleanup | C40: =VLOOKUP($B40,$B$6:$Z$32,2,FALSE) -> Explosives plant | D40: =VLOOKUP($B40,$B$6:$Z$32,3,FALSE) -> Class A SF | E40: =VLOOKUP($B40,$B$6:$Z$31,25,FALSE) -> 6.8395115
B41: Mining Workshop Overburden | C41: =VLOOKUP($B41,$B$6:$Z$32,2,FALSE) -> Overburden SP | D41: =VLOOKUP($B41,$B$6:$Z$32,3,FALSE) -> Mining Workshop | E41: =VLOOKUP($B41,$B$6:$Z$31,25,FALSE) -> 5.4142969
B42: Mining Workshop Topsoil | C42: =VLOOKUP($B42,$B$6:$Z$32,2,FALSE) -> Workshop Topsoil SP | D42: =VLOOKUP($B42,$B$6:$Z$32,3,FALSE) -> Mining Workshop | E42: =VLOOKUP($B42,$B$6:$Z$31,25,FALSE) -> 3.156901
B43: Mill Site Overburden | C43: =VLOOKUP($B43,$B$6:$Z$32,2,FALSE) -> Overburden SP | D43: =VLOOKUP($B43,$B$6:$Z$32,3,FALSE) -> Mill Site | E43: =VLOOKUP($B43,$B$6:$Z$31,25,FALSE) -> 5.5808906
B44: Mill Site Topsoil | C44: =VLOOKUP($B44,$B$6:$Z$32,2,FALSE) -> Mill Topsoil SP | D44: =VLOOKUP($B44,$B$6:$Z$32,3,FALSE) -> Mill Site | E44: =VLOOKUP($B44,$B$6:$Z$31,25,FALSE) -> 3.156901
B45: Topsoil - General Areas | C45: =VLOOKUP($B45,$B$6:$Z$32,2,FALSE) -> General Areas Topsoil SP | D45: =VLOOKUP($B45,$B$6:$Z$32,3,FALSE) -> General Areas | E45: =VLOOKUP($B45,$B$6:$Z$31,25,FALSE) -> 3.156901
B46: Class A Glacial Till | C46: =VLOOKUP($B46,$B$6:$Z$32,2,FALSE) -> Class A & B Cover Mat SP | D46: =VLOOKUP($B46,$B$6:$Z$32,3,FALSE) -> Class A SF | E46: =VLOOKUP($B46,$B$6:$Z$31,25,FALSE)+'T2 - Unit Rates'!$E$72*1.9+EquipProd!$V$64+EquipProd!$J$88 -> 10.726323 | F46: Zone S Material
B47: Class A Liner Protection | C47: =VLOOKUP($B47,$B$6:$Z$32,2,FALSE) -> Crush & Screen Plant | D47: =VLOOKUP($B47,$B$6:$Z$32,3,FALSE) -> Class A SF | E47: =VLOOKUP($B47,$B$6:$Z$31,25,FALSE)+EquipProd!$V$64+'T2 - Unit Rates'!$E$71*1.9 -> 13.638996 | F47: Zone F Material
...

Sheet Labour & Equip Hrs
A2: TOTAL LABOUR HOURS | C2: Year 2 | D2: Year 5 | E2: EOM
A3: Labour Classification | C3: Hrs | D3: Hrs | E3: Hrs
A4: =A51 -> Blaster | C4: =C51 -> 0 | D4: =D51 -> 60 | E4: =E51 -> 60
A5: =A52 -> General Labourer | C5: =C52+V46 -> 4699.1317 | D5: =D52+AI46 -> 40135.959 | E5: =E52+AU46 -> 55524.002
A6: =A53 -> Trades Labourer | C6: =C53 -> 194 | D6: =D53 -> 3215 | E6: =E53 -> 3215
A7: =A54 -> Camp Labourer | C7: =C54 -> 0 | D7: =D54 -> 0 | E7: =E54 -> 0
A8: =A55 -> Site Caretaker | C8: =C55 -> 0 | D8: =D55 -> 0 | E8: =E55 -> 0
A9: =A56 -> Mechanic | C9: =C56 -> 0 | D9: =D56 -> 0 | E9: =E56 -> 0
A10: =A57 -> Environmental Monitor | C10: =C57 -> 0 | D10: =D57 -> 0 | E10: =E57 -> 0
A11: =A58 -> Site Supervisor | C11: =C58 -> 0 | D11: =D58 -> 0 | E11: =E58 -> 0
A12: =A59 -> Design Engineer | C12: =C59 -> 0 | D12: =D59 -> 0 | E12: =E59 -> 0
A13: =A60 -> Environmental Scientist | C13: =C60 -> 20 | D13: =D60 -> 190 | E13: =E60 -> 190
A14: =A61 -> Passive Treatment Manager | C14: =C61 -> 0 | D14: =D61 -> 0 | E14: =E61 -> 0
A15: =A62 -> Project Manager | C15: =C62 -> 0 | D15: =D62 -> 0 | E15: =E62 -> 0
A16: Total | C16: =SUM(C4:C15) -> 4913.1317 | D16: =SUM(D4:D15) -> 43600.959 | E16: =SUM(E4:E15) -> 58989.002
A17: Estimated workforce | C17: =C16/231/5/C18 -> 4.2537936 | D17: =D16/231/5/D18 -> 18.874874 | E17: =E16/231/5/E18 -> 17.024243
A18: Years | C18: 1 | D18: 2 | E18: 3
A20: EQUIPMENT AND LABOUR HOURS (BUILD INTO MATERIAL MOVEMENT RATES) | P20: YEAR 2 | Z20: YEAR 5 | AL20: EOM/LOM
A21: Material Load & Haul | B21: m3 | D21: Excavator | E21: Loader | F21: Truck | G21: Dozer | H21: Compact roller | I21: Crush / Screen | K21: Loading Style | L21: Dozer Style | M21: Crush / Screen Style | N21: Roller Style | P21: Excavator Hours | Q21: Loader Hours | R21: Truck Hours | S21: Dozer Hours | T21: Roller Hours | U21: Crush / Screen Hours | V21: Total Labour Hours | Z21: Material Load & Haul | AA21: m3 | AC21: Excavator Hours | AD21: Loader Hours | AE21: Truck Hours | AF21: Dozer Hours | AG21: Roller Hours | AH21: Crush / Screen Hours | AI21: Total Labour Hours | AL21: Material Load & Haul | AM21: m3 | AO21: Excavator Hours | AP21: Loader Hours | AQ21: Truck Hours | AR21: Dozer Hours | AS21: Roller Hours | AT21: Crush / Screen Hours | AU21: Total Labour Hours
A22: =LHD!B39 -> ROM Pad Cleanup | B22: =SUMIF('T6 - Pits'!$AL$7:$AL$44,'Labour & Equip Hrs'!A22,'T6 - Pits'!$AM$7:$AM$44)+SUMIF('T7 - WSF'!$AL$7:$AL$69,'Labour & Equip Hrs'!A22,'T7 - WSF'!$AM$7:$AM$69)+SUMIF('T8 - Facilities'!$AL$7:$AL$115,'Labour & Equip Hrs'!A22,'T8 - Facilities'!$AM$7:$AM$115)+SUMIF('T9 - Ponds'!$AL$7:$AL$54,'Labour & Equip Hrs'!A22,'T9 - Ponds'!$AM$7:$AM$54)+SUMIF('T10 - Infrastructure'!$AL$7:$AL$45,'Labour & Equip Hrs'!A22,'T10 - Infrastructure'!$AM$7:$AM$45)+SUMIF('T11 - Wastes'!$AL$6:$AL$22,'Labour & Equip Hrs'!A22,'T11 - Wastes'!$AM$6:$AM$22)+SUMIF('T12 - Roads'!$AL$7:$AL$19,'Labour & Equip Hrs'!A22,'T12 - Roads'!$AM$7:$AM$19)+SUMIF('T13 - Water'!$AL$7:$AL$60,'Labour & Equip Hrs'!A22,'T13 - Water'!$AM$7:$AM$60) -> 0 | E22: 1 | F22: 1 | G22: 1 | H22: 1 | I22: 1 | K22: =VLOOKUP(A22,LHD!$B$6:$G$31,6,FALSE) -> Cat 345 loose loading | L22: =EquipProd!$B$15 -> D9 Loose recontouring | M22: =EquipProd!$B$30 -> Zone F - Crush & Screen | N22: =EquipProd!$B$29 -> Roller compacting | P22: =IFERROR(IF(D22="","",$B22/VLOOKUP($K22,Productivity,2,FALSE)),"") | Q22: =IFERROR(IF(E22="","",$B22/VLOOKUP($K22,Productivity,2,FALSE)),"") -> 0 | R22: =IF(B22=0,0,$B22/VLOOKUP($A22,LHD!$B$6:$T$31,19,FALSE)) -> 0 | S22: =IF(G22="","",$B22/VLOOKUP(L22,Productivity,2,FALSE)) -> 0 | T22: =IF(H22="","",$B22/VLOOKUP(N22,Productivity,2,FALSE)) -> 0 | U22: =IF(I22="","",$B22/VLOOKUP(M22,Productivity,2,FALSE)*2) -> 0 | V22: =SUM(P22:U22) -> 0 | Z22: =A22 -> ROM Pad Cleanup | AA22: =SUMIF('T6 - Pits'!$AU$7:$AU$44,'Labour & Equip Hrs'!Z22,'T6 - Pits'!$AV$7:$AV$44)+SUMIF('T7 - WSF'!$AU$7:$AU$69,'Labour & Equip Hrs'!Z22,'T7 - WSF'!$AV$7:$AV$69)+SUMIF('T8 - Facilities'!$AU$7:$AU$115,'Labour & Equip Hrs'!Z22,'T8 - Facilities'!$AV$7:$AV$115)+SUMIF('T9 - Ponds'!$AU$7:$AU$54,'Labour & Equip Hrs'!Z22,'T9 - Ponds'!$AV$7:$AV$54)+SUMIF('T10 - Infrastructure'!$AU$7:$AU$45,'Labour & Equip Hrs'!Z22,'T10 - Infrastructure'!$AV$7:$AV$45)+SUMIF('T11 - Wastes'!$AU$6:$AU$22,'Labour & Equip Hrs'!Z22,'T11 - Wastes'!$AV$6:$AV$22)+SUMIF('T12 - Roads'!$AU$7:$AU$19,'Labour & Equip Hrs'!Z22,'T12 - Roads'!$AV$7:$AV$19)+SUMIF('T13 - Water'!$AU$7:$AU$60,'Labour & Equip Hrs'!Z22,'T13 - Water'!$AV$7:$AV$60) -> 0 | AC22: =IFERROR(IF($D22="","",$AA22/VLOOKUP($K22,Productivity,2,FALSE)),"") | AD22: =IFERROR(IF(E22="","",$AA22/VLOOKUP($K22,Productivity,2,FALSE)),"") -> 0 | AE22: =AA22/VLOOKUP(Z22,LHD!$B$6:$Z$31,19,FALSE) -> 0 | AF22: =IF(G22="","",$AA22/VLOOKUP(L22,Productivity,2,FALSE)) -> 0 | AG22: =IF(H22="","",$AA22/VLOOKUP(N22,Productivity,2,FALSE)) -> 0 | AH22: =IF(I22="","",$AA22/VLOOKUP(M22,Productivity,2,FALSE)*2) -> 0 | AI22: =SUM(AC22:AH22) -> 0 | AL22: =A22 -> ROM Pad Cleanup | AM22: =SUMIF('T6 - Pits'!$BD$7:$BD$44,'Labour & Equip Hrs'!AL22,'T6 - Pits'!$BE$7:$BE$44)+SUMIF('T7 - WSF'!$BD$7:$BD$69,'Labour & Equip Hrs'!AL22,'T7 - WSF'!$BE$7:$BE$69)+SUMIF('T8 - Facilities'!$BD$7:$BD$115,'Labour & Equip Hrs'!AL22,'T8 - Facilities'!$BE$7:$BE$115)+SUMIF('T9 - Ponds'!$BD$7:$BD$54,'Labour & Equip Hrs'!AL22,'T9 - Ponds'!$BE$7:$BE$54)+SUMIF('T10 - Infrastructure'!$BD$7:$BD$45,'Labour & Equip Hrs'!AL22,'T10 - Infrastructure'!$BE$7:$BE$45)+SUMIF('T11 - Wastes'!$BD$6:$BD$22,'Labour & Equip Hrs'!AL22,'T11 - Wastes'!$BE$6:$BE$22)+SUMIF('T12 - Roads'!$BD$7:$BD$19,'Labour & Equip Hrs'!AL22,'T12 - Roads'!$BE$7:$BE$19)+SUMIF('T13 - Water'!$BD$7:$BD$60,'Labour & Equip Hrs'!AL22,'T13 - Water'!$BE$7:$BE$60) -> 0 | AO22: =IFERROR(IF($D22="","",$AM22/VLOOKUP($K22,Productivity,2,FALSE)),"") | AP22: =IFERROR(IF(E22="","",$AM22/VLOOKUP($K22,Productivity,2,FALSE)),"") -> 0 | AQ22: =AM22/VLOOKUP(AL22,LHD!$B$6:$Z$31,19,FALSE) -> 0 | AR22: =IF(G22="","",$AM22/VLOOKUP(L22,Productivity,2,FALSE)) -> 0 | AS22: =IF(H22="","",$AM22/VLOOKUP(N22,Productivity,2,FALSE)) -> 0 | AT22: =IF(I22="","",$AM22/VLOOKUP(M22,Productivity,2,FALSE)*2) -> 0 | AU22: =SUM(AO22:AT22) -> 0
A23: =LHD!B40 -> Explosive Magazine Cleanup | B23: =SUMIF('T6 - Pits'!$AL$7:$AL$44,'Labour & Equip Hrs'!A23,'T6 - Pits'!$AM$7:$AM$44)+SUMIF('T7 - WSF'!$AL$7:$AL$69,'Labour & Equip Hrs'!A23,'T7 - WSF'!$AM$7:$AM$69)+SUMIF('T8 - Facilities'!$AL$7:$AL$115,'Labour & Equip Hrs'!A23,'T8 - Facilities'!$AM$7:$AM$115)+SUMIF('T9 - Ponds'!$AL$7:$AL$54,'Labour & Equip Hrs'!A23,'T9 - Ponds'!$AM$7:$AM$54)+SUMIF('T10 - Infrastructure'!$AL$7:$AL$45,'Labour & Equip Hrs'!A23,'T10 - Infrastructure'!$AM$7:$AM$45)+SUMIF('T11 - Wastes'!$AL$6:$AL$22,'Labour & Equip Hrs'!A23,'T11 - Wastes'!$AM$6:$AM$22)+SUMIF('T12 - Roads'!$AL$7:$AL$19,'Labour & Equip Hrs'!A23,'T12 - Roads'!$AM$7:$AM$19)+SUMIF('T13 - Water'!$AL$7:$AL$60,'Labour & Equip Hrs'!A23,'T13 - Water'!$AM$7:$AM$60) -> 50 | E23: 1 | F23: 1 | G23: 1 | H23: 1 | K23: =VLOOKUP(A23,LHD!$B$6:$G$31,6,FALSE) -> Cat 345 loose loading | L23: =EquipProd!$B$15 -> D9 Loose recontouring | M23: =EquipProd!$B$31 -> Zone S - Crush & Screen | N23: =EquipProd!$B$29 -> Roller compacting | P23: =IFERROR(IF(D23="","",$B23/VLOOKUP($K23,Productivity,2,FALSE)),"") | Q23: =IFERROR(IF(E23="","",$B23/VLOOKUP($K23,Productivity,2,FALSE)),"") -> 0.14367816 | R23: =IF(B23=0,0,$B23/VLOOKUP($A23,LHD!$B$6:$T$31,19,FALSE)) -> 0.52888805 | S23: =IF(G23="","",$B23/VLOOKUP(L23,Productivity,2,FALSE)) -> 0.065381591 | T23: =IF(H23="","",$B23/VLOOKUP(N23,Productivity,2,FALSE)) -> 0.22102661 | U23: =IF(I23="","",$B23/VLOOKUP(M23,Productivity,2,FALSE)*2) | V23: =SUM(P23:U23) -> 0.95897441 | Z23: =A23 -> Explosive Magazine Cleanup | AA23: =SUMIF('T6 - Pits'!$AU$7:$AU$44,'Labour & Equip Hrs'!Z23,'T6 - Pits'!$AV$7:$AV$44)+SUMIF('T7 - WSF'!$AU$7:$AU$69,'Labour & Equip Hrs'!Z23,'T7 - WSF'!$AV$7:$AV$69)+SUMIF('T8 - Facilities'!$AU$7:$AU$115,'Labour & Equip Hrs'!Z23,'T8 - Facilities'!$AV$7:$AV$115)+SUMIF('T9 - Ponds'!$AU$7:$AU$54,'Labour & Equip Hrs'!Z23,'T9 - Ponds'!$AV$7:$AV$54)+SUMIF('T10 - Infrastructure'!$AU$7:$AU$45,'Labour & Equip Hrs'!Z23,'T10 - Infrastructure'!$AV$7:$AV$45)+SUMIF('T11 - Wastes'!$AU$6:$AU$22,'Labour & Equip Hrs'!Z23,'T11 - Wastes'!$AV$6:$AV$22)+SUMIF('T12 - Roads'!$AU$7:$AU$19,'Labour & Equip Hrs'!Z23,'T12 - Roads'!$AV$7:$AV$19)+SUMIF('T13 - Water'!$AU$7:$AU$60,'Labour & Equip Hrs'!Z23,'T13 - Water'!$AV$7:$AV$60) -> 7475 | AC23: =IFERROR(IF($D23="","",$AA23/VLOOKUP($K23,Productivity,2,FALSE)),"") | AD23: =IFERROR(IF(E23="","",$AA23/VLOOKUP($K23,Productivity,2,FALSE)),"") -> 21.479885 | AE23: =AA23/VLOOKUP(Z23,LHD!$B$6:$Z$31,19,FALSE) -> 79.068764 | AF23: =IF(G23="","",$AA23/VLOOKUP(L23,Productivity,2,FALSE)) -> 9.7745479 | AG23: =IF(H23="","",$AA23/VLOOKUP(N23,Productivity,2,FALSE)) -> 33.043478 | AH23: =IF(I23="","",$AA23/VLOOKUP(M23,Productivity,2,FALSE)*2) | AI23: =SUM(AC23:AH23) -> 143.36668 | AL23: =A23 -> Explosive Magazine Cleanup | AM23: =SUMIF('T6 - Pits'!$BD$7:$BD$44,'Labour & Equip Hrs'!AL23,'T6 - Pits'!$BE$7:$BE$44)+SUMIF('T7 - WSF'!$BD$7:$BD$69,'Labour & Equip Hrs'!AL23,'T7 - WSF'!$BE$7:$BE$69)+SUMIF('T8 - Facilities'!$BD$7:$BD$115,'Labour & Equip Hrs'!AL23,'T8 - Facilities'!$BE$7:$BE$115)+SUMIF('T9 - Ponds'!$BD$7:$BD$54,'Labour & Equip Hrs'!AL23,'T9 - Ponds'!$BE$7:$BE$54)+SUMIF('T10 - Infrastructure'!$BD$7:$BD$45,'Labour & Equip Hrs'!AL23,'T10 - Infrastructure'!$BE$7:$BE$45)+SUMIF('T11 - Wastes'!$BD$6:$BD$22,'Labour & Equip Hrs'!AL23,'T11 - Wastes'!$BE$6:$BE$22)+SUMIF('T12 - Roads'!$BD$7:$BD$19,'Labour & Equip Hrs'!AL23,'T12 - Roads'!$BE$7:$BE$19)+SUMIF('T13 - Water'!$BD$7:$BD$60,'Labour & Equip Hrs'!AL23,'T13 - Water'!$BE$7:$BE$60) -> 7475 | AO23: =IFERROR(IF($D23="","",$AM23/VLOOKUP($K23,Productivity,2,FALSE)),"") | AP23: =IFERROR(IF(E23="","",$AM23/VLOOKUP($K23,Productivity,2,FALSE)),"") -> 21.479885 | AQ23: =AM23/VLOOKUP(AL23,LHD!$B$6:$Z$31,19,FALSE) -> 79.068764 | AR23: =IF(G23="","",$AM23/VLOOKUP(L23,Productivity,2,FALSE)) -> 9.7745479 | AS23: =IF(H23="","",$AM23/VLOOKUP(N23,Productivity,2,FALSE)) -> 33.043478 | AT23: =IF(I23="","",$AM23/VLOOKUP(M23,Productivity,2,FALSE)*2) | AU23: =SUM(AO23:AT23) -> 143.36668
A24: =LHD!B41 -> Mining Workshop Overburden | B24: =SUMIF('T6 - Pits'!$AL$7:$AL$44,'Labour & Equip Hrs'!A24,'T6 - Pits'!$AM$7:$AM$44)+SUMIF('T7 - WSF'!$AL$7:$AL$69,'Labour & Equip Hrs'!A24,'T7 - WSF'!$AM$7:$AM$69)+SUMIF('T8 - Facilities'!$AL$7:$AL$115,'Labour & Equip Hrs'!A24,'T8 - Facilities'!$AM$7:$AM$115)+SUMIF('T9 - Ponds'!$AL$7:$AL$54,'Labour & Equip Hrs'!A24,'T9 - Ponds'!$AM$7:$AM$54)+SUMIF('T10 - Infrastructure'!$AL$7:$AL$45,'Labour & Equip Hrs'!A24,'T10 - Infrastructure'!$AM$7:$AM$45)+SUMIF('T11 - Wastes'!$AL$6:$AL$22,'Labour & Equip Hrs'!A24,'T11 - Wastes'!$AM$6:$AM$22)+SUMIF('T12 - Roads'!$AL$7:$AL$19,'Labour & Equip Hrs'!A24,'T12 - Roads'!$AM$7:$AM$19)+SUMIF('T13 - Water'!$AL$7:$AL$60,'Labour & Equip Hrs'!A24,'T13 - Water'!$AM$7:$AM$60) -> 0 | E24: 1 | F24: 1 | G24: 1 | H24: 1 | K24: =VLOOKUP(A24,LHD!$B$6:$G$31,6,FALSE) -> Cat 988 Soil/Gravel Loading | L24: =EquipProd!$B$15 -> D9 Loose recontouring | M24: =EquipProd!$B$31 -> Zone S - Crush & Screen | N24: =EquipProd!$B$29 -> Roller compacting | P24: =IFERROR(IF(D24="","",$B24/VLOOKUP($K24,Productivity,2,FALSE)),"") | Q24: =IFERROR(IF(E24="","",$B24/VLOOKUP($K24,Productivity,2,FALSE)),"") -> 0 | R24: =IF(B24=0,0,$B24/VLOOKUP($A24,LHD!$B$6:$T$31,19,FALSE)) -> 0 | S24: =IF(G24="","",$B24/VLOOKUP(L24,Productivity,2,FALSE)) -> 0 | T24: =IF(H24="","",$B24/VLOOKUP(N24,Productivity,2,FALSE)) -> 0 | U24: =IF(I24="","",$B24/VLOOKUP(M24,Productivity,2,FALSE)*2) | V24: =SUM(P24:U24) -> 0 | Z24: =A24 -> Mining Workshop Overburden | AA24: =SUMIF('T6 - Pits'!$AU$7:$AU$44,'Labour & Equip Hrs'!Z24,'T6 - Pits'!$AV$7:$AV$44)+SUMIF('T7 - WSF'!$AU$7:$AU$69,'Labour & Equip Hrs'!Z24,'T7 - WSF'!$AV$7:$AV$69)+SUMIF('T8 - Facilities'!$AU$7:$AU$115,'Labour & Equip Hrs'!Z24,'T8 - Facilities'!$AV$7:$AV$115)+SUMIF('T9 - Ponds'!$AU$7:$AU$54,'Labour & Equip Hrs'!Z24,'T9 - Ponds'!$AV$7:$AV$54)+SUMIF('T10 - Infrastructure'!$AU$7:$AU$45,'Labour & Equip Hrs'!Z24,'T10 - Infrastructure'!$AV$7:$AV$45)+SUMIF('T11 - Wastes'!$AU$6:$AU$22,'Labour & Equip Hrs'!Z24,'T11 - Wastes'!$AV$6:$AV$22)+SUMIF('T12 - Roads'!$AU$7:$AU$19,'Labour & Equip Hrs'!Z24,'T12 - Roads'!$AV$7:$AV$19)+SUMIF('T13 - Water'!$AU$7:$AU$60,'Labour & Equip Hrs'!Z24,'T13 - Water'!$AV$7:$AV$60) -> 33307.5 | AC24: =IFERROR(IF($D24="","",$AA24/VLOOKUP($K24,Productivity,2,FALSE)),"") | AD24: =IFERROR(IF(E24="","",$AA24/VLOOKUP($K24,Productivity,2,FALSE)),"") -> 75.173177 | AE24: =AA24/VLOOKUP(Z24,LHD!$B$6:$Z$31,19,FALSE) -> 244.53429 | AF24: =IF(G24="","",$AA24/VLOOKUP(L24,Productivity,2,FALSE)) -> 43.553947 | AG24: =IF(H24="","",$AA24/VLOOKUP(N24,Productivity,2,FALSE)) -> 147.23688 | AH24: =IF(I24="","",$AA24/VLOOKUP(M24,Productivity,2,FALSE)*2) | AI24: =SUM(AC24:AH24) -> 510.4983 | AL24: =A24 -> Mining Workshop Overburden | AM24: =SUMIF('T6 - Pits'!$BD$7:$BD$44,'Labour & Equip Hrs'!AL24,'T6 - Pits'!$BE$7:$BE$44)+SUMIF('T7 - WSF'!$BD$7:$BD$69,'Labour & Equip Hrs'!AL24,'T7 - WSF'!$BE$7:$BE$69)+SUMIF('T8 - Facilities'!$BD$7:$BD$115,'Labour & Equip Hrs'!AL24,'T8 - Facilities'!$BE$7:$BE$115)+SUMIF('T9 - Ponds'!$BD$7:$BD$54,'Labour & Equip Hrs'!AL24,'T9 - Ponds'!$BE$7:$BE$54)+SUMIF('T10 - Infrastructure'!$BD$7:$BD$45,'Labour & Equip Hrs'!AL24,'T10 - Infrastructure'!$BE$7:$BE$45)+SUMIF('T11 - Wastes'!$BD$6:$BD$22,'Labour & Equip Hrs'!AL24,'T11 - Wastes'!$BE$6:$BE$22)+SUMIF('T12 - Roads'!$BD$7:$BD$19,'Labour & Equip Hrs'!AL24,'T12 - Roads'!$BE$7:$BE$19)+SUMIF('T13 - Water'!$BD$7:$BD$60,'Labour & Equip Hrs'!AL24,'T13 - Water'!$BE$7:$BE$60) -> 33307.5 | AO24: =IFERROR(IF($D24="","",$AM24/VLOOKUP($K24,Productivity,2,FALSE)),"") | AP24: =IFERROR(IF(E24="","",$AM24/VLOOKUP($K24,Productivity,2,FALSE)),"") -> 75.173177 | AQ24: =AM24/VLOOKUP(AL24,LHD!$B$6:$Z$31,19,FALSE) -> 244.53429 | AR24: =IF(G24="","",$AM24/VLOOKUP(L24,Productivity,2,FALSE)) -> 43.553947 | AS24: =IF(H24="","",$AM24/VLOOKUP(N24,Productivity,2,FALSE)) -> 147.23688 | AT24: =IF(I24="","",$AM24/VLOOKUP(M24,Productivity,2,FALSE)*2) | AU24: =SUM(AO24:AT24) -> 510.4983
